Package: ToxicoGx Version: 2.11.0 Command: /home/biocbuild/bbs-3.21-bioc/R/bin/R CMD INSTALL ToxicoGx StartedAt: 2025-02-04 15:21:55 -0500 (Tue, 04 Feb 2025) EndedAt: 2025-02-04 15:22:29 -0500 (Tue, 04 Feb 2025) EllapsedTime: 34.7 seconds RetCode: 0 Status: OK