Package: ToxicoGx Version: 2.11.0 Command: chmod a+r ToxicoGx -R && E:\biocbuild\bbs-3.21-bioc\R\bin\R.exe CMD build --keep-empty-dirs --no-resave-data ToxicoGx StartedAt: 2025-02-04 22:10:08 -0500 (Tue, 04 Feb 2025) EndedAt: 2025-02-04 22:11:36 -0500 (Tue, 04 Feb 2025) EllapsedTime: 88.7 seconds RetCode: 0 Status: OK PackageFile: ToxicoGx_2.11.0.tar.gz PackageFileSize: 3.9 MiB