Package: ToxicoGx Version: 2.11.0 Command: E:\biocbuild\bbs-3.21-bioc\R\bin\R.exe CMD INSTALL ToxicoGx StartedAt: 2025-02-09 16:25:13 -0500 (Sun, 09 Feb 2025) EndedAt: 2025-02-09 16:26:28 -0500 (Sun, 09 Feb 2025) EllapsedTime: 74.9 seconds RetCode: 0 Status: OK