Package: TrIdent Version: 0.99.3 Command: /home/biocbuild/R/R/bin/R CMD INSTALL TrIdent StartedAt: 2025-01-29 19:43:43 -0000 (Wed, 29 Jan 2025) EndedAt: 2025-01-29 19:43:54 -0000 (Wed, 29 Jan 2025) EllapsedTime: 11.3 seconds RetCode: 0 Status: OK