Package: TrIdent Version: 0.99.3 Command: /home/biocbuild/bbs-3.21-bioc/R/bin/R CMD build --keep-empty-dirs --no-resave-data TrIdent StartedAt: 2025-02-12 19:35:27 -0500 (Wed, 12 Feb 2025) EndedAt: 2025-02-12 19:36:09 -0500 (Wed, 12 Feb 2025) EllapsedTime: 42.0 seconds RetCode: 0 Status: OK PackageFile: TrIdent_0.99.3.tar.gz PackageFileSize: 1.609 MiB