Package: TrIdent Version: 0.99.3 Command: /home/biocbuild/bbs-3.21-bioc/R/bin/R CMD INSTALL TrIdent StartedAt: 2025-02-12 15:10:42 -0500 (Wed, 12 Feb 2025) EndedAt: 2025-02-12 15:10:58 -0500 (Wed, 12 Feb 2025) EllapsedTime: 16.2 seconds RetCode: 0 Status: OK