Package: TrIdent Version: 0.99.3 Command: chmod a+r TrIdent -R && E:\biocbuild\bbs-3.21-bioc\R\bin\R.exe CMD build --keep-empty-dirs --no-resave-data TrIdent StartedAt: 2025-02-12 22:18:39 -0500 (Wed, 12 Feb 2025) EndedAt: 2025-02-12 22:21:22 -0500 (Wed, 12 Feb 2025) EllapsedTime: 163.5 seconds RetCode: 0 Status: OK PackageFile: TrIdent_0.99.3.tar.gz PackageFileSize: 1.287 MiB