Package: TrajectoryGeometry Version: 1.15.0 Command: /home/biocbuild/R/R/bin/R CMD build --keep-empty-dirs --no-resave-data TrajectoryGeometry StartedAt: 2025-01-28 02:59:22 -0000 (Tue, 28 Jan 2025) EndedAt: 2025-01-28 03:07:03 -0000 (Tue, 28 Jan 2025) EllapsedTime: 461.2 seconds RetCode: 0 Status: OK PackageFile: TrajectoryGeometry_1.15.0.tar.gz PackageFileSize: 1.807 MiB