Package: TrajectoryGeometry Version: 1.15.0 Command: rm -rf TrajectoryGeometry.buildbin-libdir && mkdir TrajectoryGeometry.buildbin-libdir && /Users/biocbuild/BBS/utils/build-universal.sh TrajectoryGeometry_1.15.0.tar.gz /Library/Frameworks/R.framework/Resources/bin/R TrajectoryGeometry.buildbin-libdir StartedAt: 2025-02-10 01:21:02 -0500 (Mon, 10 Feb 2025) EndedAt: 2025-02-10 01:21:12 -0500 (Mon, 10 Feb 2025) EllapsedTime: 10.4 seconds RetCode: 0 Status: OK PackageFile: TrajectoryGeometry_1.15.0.tgz PackageFileSize: 1.359 MiB