Package: TrajectoryGeometry Version: 1.15.0 Command: /home/biocbuild/bbs-3.21-bioc/R/bin/R CMD INSTALL TrajectoryGeometry StartedAt: 2025-02-12 15:08:43 -0500 (Wed, 12 Feb 2025) EndedAt: 2025-02-12 15:08:59 -0500 (Wed, 12 Feb 2025) EllapsedTime: 15.9 seconds RetCode: 0 Status: OK