Package: TrajectoryGeometry Version: 1.15.0 Command: rm -rf TrajectoryGeometry.buildbin-libdir && mkdir TrajectoryGeometry.buildbin-libdir && E:\biocbuild\bbs-3.21-bioc\R\bin\R.exe CMD INSTALL --build --library=TrajectoryGeometry.buildbin-libdir TrajectoryGeometry_1.15.0.tar.gz StartedAt: 2025-02-13 09:04:14 -0500 (Thu, 13 Feb 2025) EndedAt: 2025-02-13 09:05:26 -0500 (Thu, 13 Feb 2025) EllapsedTime: 71.4 seconds RetCode: 0 Status: OK PackageFile: TrajectoryGeometry_1.15.0.zip PackageFileSize: 1.228 MiB