Package: TrajectoryUtils Version: 1.15.0 Command: rm -rf TrajectoryUtils.buildbin-libdir && mkdir TrajectoryUtils.buildbin-libdir && /Users/biocbuild/BBS/utils/build-universal.sh TrajectoryUtils_1.15.0.tar.gz /Library/Frameworks/R.framework/Resources/bin/R TrajectoryUtils.buildbin-libdir StartedAt: 2025-02-09 22:33:52 -0500 (Sun, 09 Feb 2025) EndedAt: 2025-02-09 22:34:03 -0500 (Sun, 09 Feb 2025) EllapsedTime: 11.3 seconds RetCode: 0 Status: OK PackageFile: TrajectoryUtils_1.15.0.tgz PackageFileSize: 568.9 KiB