Package: TrajectoryUtils Version: 1.15.0 Command: /Library/Frameworks/R.framework/Resources/bin/R CMD build --keep-empty-dirs --no-resave-data TrajectoryUtils StartedAt: 2025-02-09 17:49:56 -0500 (Sun, 09 Feb 2025) EndedAt: 2025-02-09 17:50:10 -0500 (Sun, 09 Feb 2025) EllapsedTime: 14.2 seconds RetCode: 0 Status: OK PackageFile: TrajectoryUtils_1.15.0.tar.gz PackageFileSize: 339.8 KiB