Package: TrajectoryUtils Version: 1.15.0 Command: /Library/Frameworks/R.framework/Resources/bin/R CMD check --install=check:TrajectoryUtils.install-out.txt --library=/Library/Frameworks/R.framework/Resources/library --no-vignettes --timings TrajectoryUtils_1.15.0.tar.gz StartedAt: 2025-02-03 22:23:37 -0500 (Mon, 03 Feb 2025) EndedAt: 2025-02-03 22:24:47 -0500 (Mon, 03 Feb 2025) EllapsedTime: 70.8 seconds RetCode: 0 Status: OK CheckDir: TrajectoryUtils.Rcheck Warnings: 0