Package: TrajectoryUtils Version: 1.15.0 Command: /Library/Frameworks/R.framework/Resources/bin/R CMD INSTALL TrajectoryUtils StartedAt: 2025-02-03 15:40:19 -0500 (Mon, 03 Feb 2025) EndedAt: 2025-02-03 15:40:30 -0500 (Mon, 03 Feb 2025) EllapsedTime: 10.8 seconds RetCode: 0 Status: OK