Package: TrajectoryUtils Version: 1.15.0 Command: /home/biocbuild/R/R/bin/R CMD build --keep-empty-dirs --no-resave-data TrajectoryUtils StartedAt: 2025-01-28 02:59:23 -0000 (Tue, 28 Jan 2025) EndedAt: 2025-01-28 03:00:10 -0000 (Tue, 28 Jan 2025) EllapsedTime: 47.0 seconds RetCode: 0 Status: OK PackageFile: TrajectoryUtils_1.15.0.tar.gz PackageFileSize: 394.4 KiB