Package: TrajectoryUtils Version: 1.15.0 Command: /home/biocbuild/R/R/bin/R CMD INSTALL TrajectoryUtils StartedAt: 2025-01-29 19:41:54 -0000 (Wed, 29 Jan 2025) EndedAt: 2025-01-29 19:42:27 -0000 (Wed, 29 Jan 2025) EllapsedTime: 33.3 seconds RetCode: 0 Status: OK