Package: TrajectoryUtils Version: 1.15.0 Command: /Library/Frameworks/R.framework/Resources/bin/R CMD build --keep-empty-dirs --no-resave-data TrajectoryUtils StartedAt: 2025-02-09 18:45:25 -0500 (Sun, 09 Feb 2025) EndedAt: 2025-02-09 18:46:04 -0500 (Sun, 09 Feb 2025) EllapsedTime: 38.9 seconds RetCode: 0 Status: OK PackageFile: TrajectoryUtils_1.15.0.tar.gz PackageFileSize: 341.7 KiB