Package: TrajectoryUtils Version: 1.15.0 Command: /home/biocbuild/bbs-3.21-bioc/R/bin/R CMD build --keep-empty-dirs --no-resave-data TrajectoryUtils StartedAt: 2025-02-03 19:46:51 -0500 (Mon, 03 Feb 2025) EndedAt: 2025-02-03 19:47:25 -0500 (Mon, 03 Feb 2025) EllapsedTime: 34.0 seconds RetCode: 0 Status: OK PackageFile: TrajectoryUtils_1.15.0.tar.gz PackageFileSize: 335 KiB