Package: TrajectoryUtils Version: 1.15.0 Command: /home/biocbuild/bbs-3.21-bioc/R/bin/R CMD INSTALL TrajectoryUtils StartedAt: 2025-02-09 15:23:39 -0500 (Sun, 09 Feb 2025) EndedAt: 2025-02-09 15:24:02 -0500 (Sun, 09 Feb 2025) EllapsedTime: 23.5 seconds RetCode: 0 Status: OK