Package: TrajectoryUtils Version: 1.15.0 Command: rm -rf TrajectoryUtils.buildbin-libdir && mkdir TrajectoryUtils.buildbin-libdir && E:\biocbuild\bbs-3.21-bioc\R\bin\R.exe CMD INSTALL --build --library=TrajectoryUtils.buildbin-libdir TrajectoryUtils_1.15.0.tar.gz StartedAt: 2025-02-10 08:53:36 -0500 (Mon, 10 Feb 2025) EndedAt: 2025-02-10 08:54:28 -0500 (Mon, 10 Feb 2025) EllapsedTime: 51.9 seconds RetCode: 0 Status: OK PackageFile: TrajectoryUtils_1.15.0.zip PackageFileSize: 552.5 KiB