Package: TransView Version: 1.51.2 Maintainer: Julius Muller MaintainerEmail: ju-mu at alumni.ethz.ch git_url: https://git.bioconductor.org/packages/TransView git_branch: devel git_last_commit: 7fb647b git_last_commit_date: 2025-01-29 11:08:37 -0500 (Wed, 29 Jan 2025)