Package: TransView Version: 1.51.1 Command: /home/biocbuild/R/R/bin/R CMD build --keep-empty-dirs --no-resave-data TransView StartedAt: 2025-01-28 03:00:42 -0000 (Tue, 28 Jan 2025) EndedAt: 2025-01-28 03:00:45 -0000 (Tue, 28 Jan 2025) EllapsedTime: 3.0 seconds RetCode: 1 Status: ERROR PackageFile: None PackageFileSize: NA