Package: TransView Version: 1.51.2 Command: /Library/Frameworks/R.framework/Resources/bin/R CMD build --keep-empty-dirs --no-resave-data TransView StartedAt: 2025-02-09 18:45:57 -0500 (Sun, 09 Feb 2025) EndedAt: 2025-02-09 18:46:34 -0500 (Sun, 09 Feb 2025) EllapsedTime: 36.5 seconds RetCode: 0 Status: OK PackageFile: TransView_1.51.2.tar.gz PackageFileSize: 1.824 MiB