Package: TransView Version: 1.51.2 Command: /Library/Frameworks/R.framework/Resources/bin/R CMD check --install=check:TransView.install-out.txt --library=/Library/Frameworks/R.framework/Resources/library --no-vignettes --timings TransView_1.51.2.tar.gz StartedAt: 2025-02-12 23:56:11 -0500 (Wed, 12 Feb 2025) EndedAt: 2025-02-12 23:58:07 -0500 (Wed, 12 Feb 2025) EllapsedTime: 116.0 seconds RetCode: 0 Status: OK CheckDir: TransView.Rcheck Warnings: 0