Package: TransView Version: 1.51.2 Command: /home/biocbuild/bbs-3.21-bioc/R/bin/R CMD build --keep-empty-dirs --no-resave-data TransView StartedAt: 2025-02-09 19:39:11 -0500 (Sun, 09 Feb 2025) EndedAt: 2025-02-09 19:39:30 -0500 (Sun, 09 Feb 2025) EllapsedTime: 19.0 seconds RetCode: 1 Status: ERROR PackageFile: None PackageFileSize: NA