Package: TransView Version: 1.51.2 Command: /home/biocbuild/bbs-3.21-bioc/R/bin/R CMD INSTALL TransView StartedAt: 2025-02-09 15:15:16 -0500 (Sun, 09 Feb 2025) EndedAt: 2025-02-09 15:15:32 -0500 (Sun, 09 Feb 2025) EllapsedTime: 15.7 seconds RetCode: 0 Status: OK