Package: TransView Version: 1.51.2 Command: E:\biocbuild\bbs-3.21-bioc\R\bin\R.exe CMD check --no-multiarch --install=check:TransView.install-out.txt --library=E:\biocbuild\bbs-3.21-bioc\R\library --no-vignettes --timings TransView_1.51.2.tar.gz StartedAt: 2025-02-10 06:18:25 -0500 (Mon, 10 Feb 2025) EndedAt: 2025-02-10 06:21:50 -0500 (Mon, 10 Feb 2025) EllapsedTime: 205.1 seconds RetCode: 0 Status: OK CheckDir: TransView.Rcheck Warnings: 0