Package: TreeAndLeaf Version: 1.19.0 Command: /Library/Frameworks/R.framework/Resources/bin/R CMD INSTALL TreeAndLeaf StartedAt: 2025-02-12 15:10:46 -0500 (Wed, 12 Feb 2025) EndedAt: 2025-02-12 15:10:48 -0500 (Wed, 12 Feb 2025) EllapsedTime: 1.5 seconds RetCode: 0 Status: OK