Package: TreeAndLeaf Version: 1.19.0 Command: /home/biocbuild/R/R/bin/R CMD build --keep-empty-dirs --no-resave-data TreeAndLeaf StartedAt: 2025-01-28 03:00:45 -0000 (Tue, 28 Jan 2025) EndedAt: 2025-01-28 03:01:00 -0000 (Tue, 28 Jan 2025) EllapsedTime: 15.0 seconds RetCode: 0 Status: OK PackageFile: TreeAndLeaf_1.19.0.tar.gz PackageFileSize: 5.646 MiB