Package: TreeAndLeaf Version: 1.19.0 Command: rm -rf TreeAndLeaf.buildbin-libdir && mkdir TreeAndLeaf.buildbin-libdir && /Users/biocbuild/BBS/utils/build-universal.sh TreeAndLeaf_1.19.0.tar.gz /Library/Frameworks/R.framework/Resources/bin/R TreeAndLeaf.buildbin-libdir StartedAt: 2025-02-10 01:21:11 -0500 (Mon, 10 Feb 2025) EndedAt: 2025-02-10 01:21:20 -0500 (Mon, 10 Feb 2025) EllapsedTime: 9.3 seconds RetCode: 0 Status: OK PackageFile: TreeAndLeaf_1.19.0.tgz PackageFileSize: 3.162 MiB