Package: TreeAndLeaf Version: 1.19.0 Command: /Library/Frameworks/R.framework/Resources/bin/R CMD build --keep-empty-dirs --no-resave-data TreeAndLeaf StartedAt: 2025-02-09 18:46:01 -0500 (Sun, 09 Feb 2025) EndedAt: 2025-02-09 18:46:17 -0500 (Sun, 09 Feb 2025) EllapsedTime: 15.9 seconds RetCode: 0 Status: OK PackageFile: TreeAndLeaf_1.19.0.tar.gz PackageFileSize: 5.623 MiB