Package: TreeAndLeaf Version: 1.19.0 Command: /Library/Frameworks/R.framework/Resources/bin/R CMD check --install=check:TreeAndLeaf.install-out.txt --library=/Library/Frameworks/R.framework/Resources/library --no-vignettes --timings TreeAndLeaf_1.19.0.tar.gz StartedAt: 2025-02-04 23:52:15 -0500 (Tue, 04 Feb 2025) EndedAt: 2025-02-04 23:52:55 -0500 (Tue, 04 Feb 2025) EllapsedTime: 40.2 seconds RetCode: 0 Status: OK CheckDir: TreeAndLeaf.Rcheck Warnings: 0