Package: TreeAndLeaf Version: 1.19.0 Command: /home/biocbuild/bbs-3.21-bioc/R/bin/R CMD build --keep-empty-dirs --no-resave-data TreeAndLeaf StartedAt: 2025-02-09 19:39:22 -0500 (Sun, 09 Feb 2025) EndedAt: 2025-02-09 19:39:33 -0500 (Sun, 09 Feb 2025) EllapsedTime: 11.0 seconds RetCode: 0 Status: OK PackageFile: TreeAndLeaf_1.19.0.tar.gz PackageFileSize: 5.881 MiB