Package: TreeAndLeaf Version: 1.19.0 Command: /home/biocbuild/bbs-3.21-bioc/R/bin/R CMD check --install=check:TreeAndLeaf.install-out.txt --library=/home/biocbuild/bbs-3.21-bioc/R/site-library --timings TreeAndLeaf_1.19.0.tar.gz StartedAt: 2025-02-05 03:37:27 -0500 (Wed, 05 Feb 2025) EndedAt: 2025-02-05 03:38:18 -0500 (Wed, 05 Feb 2025) EllapsedTime: 51.1 seconds RetCode: 0 Status: OK CheckDir: TreeAndLeaf.Rcheck Warnings: 0