Package: TreeSummarizedExperiment Version: 2.15.0 Command: /home/biocbuild/R/R/bin/R CMD build --keep-empty-dirs --no-resave-data TreeSummarizedExperiment StartedAt: 2025-01-28 03:01:00 -0000 (Tue, 28 Jan 2025) EndedAt: 2025-01-28 03:02:20 -0000 (Tue, 28 Jan 2025) EllapsedTime: 80.0 seconds RetCode: 0 Status: OK PackageFile: TreeSummarizedExperiment_2.15.0.tar.gz PackageFileSize: 1.059 MiB