Package: TreeSummarizedExperiment Version: 2.15.0 Command: /Library/Frameworks/R.framework/Resources/bin/R CMD check --install=check:TreeSummarizedExperiment.install-out.txt --library=/Library/Frameworks/R.framework/Resources/library --no-vignettes --timings TreeSummarizedExperiment_2.15.0.tar.gz StartedAt: 2025-02-12 23:56:49 -0500 (Wed, 12 Feb 2025) EndedAt: 2025-02-13 00:03:20 -0500 (Thu, 13 Feb 2025) EllapsedTime: 391.0 seconds RetCode: 0 Status: OK CheckDir: TreeSummarizedExperiment.Rcheck Warnings: 0