Package: TreeSummarizedExperiment Version: 2.15.0 Command: /Library/Frameworks/R.framework/Resources/bin/R CMD INSTALL TreeSummarizedExperiment StartedAt: 2025-02-09 15:14:41 -0500 (Sun, 09 Feb 2025) EndedAt: 2025-02-09 15:15:25 -0500 (Sun, 09 Feb 2025) EllapsedTime: 44.1 seconds RetCode: 0 Status: OK