Package: Trendy Version: 1.29.0 Command: rm -rf Trendy.buildbin-libdir && mkdir Trendy.buildbin-libdir && /Users/biocbuild/BBS/utils/build-universal.sh Trendy_1.29.0.tar.gz /Library/Frameworks/R.framework/Resources/bin/R Trendy.buildbin-libdir StartedAt: 2025-02-12 22:39:12 -0500 (Wed, 12 Feb 2025) EndedAt: 2025-02-12 22:39:23 -0500 (Wed, 12 Feb 2025) EllapsedTime: 11.2 seconds RetCode: 0 Status: OK PackageFile: Trendy_1.29.0.tgz PackageFileSize: 769.4 KiB