Package: Trendy Version: 1.29.0 Command: /Library/Frameworks/R.framework/Resources/bin/R CMD INSTALL Trendy StartedAt: 2025-02-12 15:15:44 -0500 (Wed, 12 Feb 2025) EndedAt: 2025-02-12 15:15:54 -0500 (Wed, 12 Feb 2025) EllapsedTime: 9.9 seconds RetCode: 0 Status: OK