Package: Trendy Version: 1.29.0 Command: /Library/Frameworks/R.framework/Resources/bin/R CMD check --install=check:Trendy.install-out.txt --library=/Library/Frameworks/R.framework/Resources/library --no-vignettes --timings Trendy_1.29.0.tar.gz StartedAt: 2025-02-10 00:13:07 -0500 (Mon, 10 Feb 2025) EndedAt: 2025-02-10 00:16:50 -0500 (Mon, 10 Feb 2025) EllapsedTime: 223.4 seconds RetCode: 0 Status: OK CheckDir: Trendy.Rcheck Warnings: 0