Package: Trendy Version: 1.29.0 Command: /Library/Frameworks/R.framework/Resources/bin/R CMD INSTALL Trendy StartedAt: 2025-02-12 15:25:30 -0500 (Wed, 12 Feb 2025) EndedAt: 2025-02-12 15:26:03 -0500 (Wed, 12 Feb 2025) EllapsedTime: 32.7 seconds RetCode: 0 Status: OK