Package: Trendy Version: 1.29.0 Command: chmod a+r Trendy -R && E:\biocbuild\bbs-3.21-bioc\R\bin\R.exe CMD build --keep-empty-dirs --no-resave-data Trendy StartedAt: 2025-02-12 22:18:23 -0500 (Wed, 12 Feb 2025) EndedAt: 2025-02-12 22:20:43 -0500 (Wed, 12 Feb 2025) EllapsedTime: 139.4 seconds RetCode: 0 Status: OK PackageFile: Trendy_1.29.0.tar.gz PackageFileSize: 1.087 MiB