Package: TurboNorm Version: 1.55.0 Command: rm -rf TurboNorm.buildbin-libdir && mkdir TurboNorm.buildbin-libdir && /Users/biocbuild/BBS/utils/build-universal.sh TurboNorm_1.55.0.tar.gz /Library/Frameworks/R.framework/Resources/bin/R TurboNorm.buildbin-libdir StartedAt: 2025-02-09 22:34:16 -0500 (Sun, 09 Feb 2025) EndedAt: 2025-02-09 22:34:19 -0500 (Sun, 09 Feb 2025) EllapsedTime: 3.1 seconds RetCode: 0 Status: OK PackageFile: TurboNorm_1.55.0.tgz PackageFileSize: 2.05 MiB