Package: TurboNorm Version: 1.55.0 Command: /Library/Frameworks/R.framework/Resources/bin/R CMD check --install=check:TurboNorm.install-out.txt --library=/Library/Frameworks/R.framework/Resources/library --no-vignettes --timings TurboNorm_1.55.0.tar.gz StartedAt: 2025-02-09 21:51:37 -0500 (Sun, 09 Feb 2025) EndedAt: 2025-02-09 21:52:08 -0500 (Sun, 09 Feb 2025) EllapsedTime: 30.4 seconds RetCode: 0 Status: OK CheckDir: TurboNorm.Rcheck Warnings: 0