Package: TurboNorm Version: 1.55.0 Command: /Library/Frameworks/R.framework/Resources/bin/R CMD INSTALL TurboNorm StartedAt: 2025-02-09 15:02:51 -0500 (Sun, 09 Feb 2025) EndedAt: 2025-02-09 15:02:54 -0500 (Sun, 09 Feb 2025) EllapsedTime: 3.0 seconds RetCode: 0 Status: OK