Package: TurboNorm Version: 1.55.0 Command: /home/biocbuild/R/R/bin/R CMD build --keep-empty-dirs --no-resave-data TurboNorm StartedAt: 2025-01-28 03:03:00 -0000 (Tue, 28 Jan 2025) EndedAt: 2025-01-28 03:03:14 -0000 (Tue, 28 Jan 2025) EllapsedTime: 14.0 seconds RetCode: 0 Status: OK PackageFile: TurboNorm_1.55.0.tar.gz PackageFileSize: 2.031 MiB