Package: TurboNorm Version: 1.55.0 Command: /Library/Frameworks/R.framework/Resources/bin/R CMD check --install=check:TurboNorm.install-out.txt --library=/Library/Frameworks/R.framework/Resources/library --no-vignettes --timings TurboNorm_1.55.0.tar.gz StartedAt: 2025-02-12 23:59:48 -0500 (Wed, 12 Feb 2025) EndedAt: 2025-02-13 00:01:05 -0500 (Thu, 13 Feb 2025) EllapsedTime: 76.9 seconds RetCode: 0 Status: OK CheckDir: TurboNorm.Rcheck Warnings: 0