Package: TurboNorm Version: 1.55.0 Command: /Library/Frameworks/R.framework/Resources/bin/R CMD INSTALL TurboNorm StartedAt: 2025-02-09 15:07:57 -0500 (Sun, 09 Feb 2025) EndedAt: 2025-02-09 15:08:31 -0500 (Sun, 09 Feb 2025) EllapsedTime: 34.4 seconds RetCode: 0 Status: OK