Package: TurboNorm Version: 1.55.0 Command: /home/biocbuild/bbs-3.21-bioc/R/bin/R CMD build --keep-empty-dirs --no-resave-data TurboNorm StartedAt: 2025-02-12 19:36:27 -0500 (Wed, 12 Feb 2025) EndedAt: 2025-02-12 19:36:40 -0500 (Wed, 12 Feb 2025) EllapsedTime: 13.0 seconds RetCode: 0 Status: OK PackageFile: TurboNorm_1.55.0.tar.gz PackageFileSize: 2.021 MiB